BEGIN:VCALENDAR
VERSION:2.0
PRODID:-//Jezus komt spoedig//NONSGML v1.0//NL
CALSCALE:GREGORIAN
METHOD:PUBLISH
BEGIN:VTIMEZONE
TZID:Europe/Amsterdam
X-LIC-LOCATION:Europe/Amsterdam
BEGIN:DAYLIGHT
TZOFFSETFROM:+0100
TZOFFSETTO:+0200
TZNAME:CEST
DTSTART:19700329T020000
RRULE:FREQ=YEARLY;BYMONTH=3;BYDAY=-1SU
END:DAYLIGHT
BEGIN:STANDARD
TZOFFSETFROM:+0200
TZOFFSETTO:+0100
TZNAME:CET
DTSTART:19701025T030000
RRULE:FREQ=YEARLY;BYMONTH=10;BYDAY=-1SU
END:STANDARD
END:VTIMEZONE
BEGIN:VEVENT
UID:post-5582@jezuskomtspoedig.nl
DTSTAMP:20260420T090728Z
DTSTART;TZID=Europe/Amsterdam:20260531T100000
DTEND;TZID=Europe/Amsterdam:20260531T120000
SUMMARY:Koningkerk Haarlem
DESCRIPTION:\nhttps://jezuskomtspoedig.nl/agenda/koningkerk-haarlem-4/
LOCATION:Kloppersingel 57 \, 2021 CS\, Haarlem
END:VEVENT
END:VCALENDAR
