BEGIN:VCALENDAR
VERSION:2.0
PRODID:-//Jezus komt spoedig//NONSGML v1.0//NL
CALSCALE:GREGORIAN
METHOD:PUBLISH
BEGIN:VTIMEZONE
TZID:Europe/Amsterdam
X-LIC-LOCATION:Europe/Amsterdam
BEGIN:DAYLIGHT
TZOFFSETFROM:+0100
TZOFFSETTO:+0200
TZNAME:CEST
DTSTART:19700329T020000
RRULE:FREQ=YEARLY;BYMONTH=3;BYDAY=-1SU
END:DAYLIGHT
BEGIN:STANDARD
TZOFFSETFROM:+0200
TZOFFSETTO:+0100
TZNAME:CET
DTSTART:19701025T030000
RRULE:FREQ=YEARLY;BYMONTH=10;BYDAY=-1SU
END:STANDARD
END:VTIMEZONE
BEGIN:VEVENT
UID:post-5588@jezuskomtspoedig.nl
DTSTAMP:20260422T132845Z
DTSTART;TZID=Europe/Amsterdam:20260927T100000
DTEND;TZID=Europe/Amsterdam:20260927T120000
SUMMARY:Baptistengemeente Immanuël Geesbrug
DESCRIPTION:\nhttps://jezuskomtspoedig.nl/agenda/baptistengemeente-immanuel-geesbrug-8/
LOCATION:Lindenlaan 2 \, 7917 PE\, Geesbrug
END:VEVENT
END:VCALENDAR
